BEGIN:VCALENDAR
VERSION:2.0
PRODID:-//The Restore Center - ECPv6.15.20//NONSGML v1.0//EN
CALSCALE:GREGORIAN
METHOD:PUBLISH
X-ORIGINAL-URL:https://therestorecenter.com
X-WR-CALDESC:Events for The Restore Center
REFRESH-INTERVAL;VALUE=DURATION:PT1H
X-Robots-Tag:noindex
X-PUBLISHED-TTL:PT1H
BEGIN:VTIMEZONE
TZID:America/Chicago
BEGIN:DAYLIGHT
TZOFFSETFROM:-0600
TZOFFSETTO:-0500
TZNAME:CDT
DTSTART:20160313T080000
END:DAYLIGHT
BEGIN:STANDARD
TZOFFSETFROM:-0500
TZOFFSETTO:-0600
TZNAME:CST
DTSTART:20161106T070000
END:STANDARD
BEGIN:DAYLIGHT
TZOFFSETFROM:-0600
TZOFFSETTO:-0500
TZNAME:CDT
DTSTART:20170312T080000
END:DAYLIGHT
BEGIN:STANDARD
TZOFFSETFROM:-0500
TZOFFSETTO:-0600
TZNAME:CST
DTSTART:20171105T070000
END:STANDARD
BEGIN:DAYLIGHT
TZOFFSETFROM:-0600
TZOFFSETTO:-0500
TZNAME:CDT
DTSTART:20180311T080000
END:DAYLIGHT
BEGIN:STANDARD
TZOFFSETFROM:-0500
TZOFFSETTO:-0600
TZNAME:CST
DTSTART:20181104T070000
END:STANDARD
END:VTIMEZONE
BEGIN:VTIMEZONE
TZID:UTC
BEGIN:STANDARD
TZOFFSETFROM:+0000
TZOFFSETTO:+0000
TZNAME:UTC
DTSTART:20150101T000000
END:STANDARD
END:VTIMEZONE
BEGIN:VEVENT
DTSTART;TZID=America/Chicago:20170616T100000
DTEND;TZID=America/Chicago:20170616T110000
DTSTAMP:20260425T220423
CREATED:20170523T223454Z
LAST-MODIFIED:20170523T223804Z
UID:1545-1497607200-1497610800@therestorecenter.com
SUMMARY:The Synergy of Group Acupuncture and Guided Meditation
DESCRIPTION:Innovative Therapy Coming June 16th to RESTORE Center for Integrative Medicine… \nWeekly Group Acupuncture combined with Guided Meditation coming to RESTORE beginning June 16th! Experience the powerful synergy between these two amazing therapies during this program developed by our own acupuncturist and Chinese medicine practitioner Rosie Coelho MAcOM\, LAc and licensed professional counselor Elena Frolov MA\, LPC. Key acupuncture points known as “homeostatic points” that support the immune system\, improve organ function\, and reduce stress will be combined with guided meditation that opens the connection between the body and mind and supports the action of the acupuncture points as they are placed. Call 214-396-0500 to learn more or RSVP for our first class on Friday June 16th from 10-11am. Space will be limited.
URL:https://therestorecenter.com/event/the-synergy-of-group-acupuncture-and-guided-meditation/
LOCATION:RESTORE Center for Integrative Medicine\, 6517 W. Plano Parkway Suite A\, Plano\, TX\, 75013\, United States
END:VEVENT
BEGIN:VEVENT
DTSTART;TZID=UTC:20161229T183000
DTEND;TZID=UTC:20161229T193000
DTSTAMP:20260425T220423
CREATED:20160823T001233Z
LAST-MODIFIED:20161021T035001Z
UID:1018-1483036200-1483039800@therestorecenter.com
SUMMARY:Qi Gong
DESCRIPTION:Derived from thousands of years of Chinese experience in the Healing Arts and Sciences\, Qigong is a powerful way to maintain health. \nQi is the vital energy or life force that is inside and outside the body. Gong means to make it work and to produce energy. \nQigong means working with life energy. It is a self-healing exercise that includes body posture\, movement\, self-massage\, breathing techniques and meditation. It helps you learn how to control the flow and distribution of Qi to improve the health and harmony of body-mind and increase longevity.
URL:https://therestorecenter.com/event/qi-gong-2016-10-13-2016-12-29/
LOCATION:RESTORE Center for Integrative Medicine\, 6517 W. Plano Parkway Suite A\, Plano\, TX\, 75013\, United States
CATEGORIES:Events At A Glance,Qigong
END:VEVENT
BEGIN:VEVENT
DTSTART;TZID=UTC:20161227T073000
DTEND;TZID=UTC:20161227T083000
DTSTAMP:20260425T220423
CREATED:20160822T234120Z
LAST-MODIFIED:20160822T234120Z
UID:1149-1482823800-1482827400@therestorecenter.com
SUMMARY:Tai Chi
DESCRIPTION:In this Tai Chi Qigong class\, you will be introduced step-by-step to the “Eighteen Movements\,” a form perfected by Master Tseng that uses Tai Chi’s soft and graceful movements in combination with exercises for the mind. By encouraging better balance\, coordination\, and concentration\, mind and body flow together to improve Qi (life force) and your health.
URL:https://therestorecenter.com/event/tai-chi-2016-10-12-2016-12-27/
LOCATION:RESTORE Center for Integrative Medicine\, 6517 W. Plano Parkway\, Plano\, TX\, 75093\, United States
CATEGORIES:Events At A Glance,Tai Chi Qigong
END:VEVENT
BEGIN:VEVENT
DTSTART;TZID=UTC:20161219T190000
DTEND;TZID=UTC:20161219T200000
DTSTAMP:20260425T220423
CREATED:20160823T004127Z
LAST-MODIFIED:20160823T004127Z
UID:737-1482174000-1482177600@therestorecenter.com
SUMMARY:Cancer Support Group
DESCRIPTION:Cancer patients in any stage of diagnosis\,  treatment/post-treatment living with gynecological\nor breast cancer\, and the caregivers who share their journey.
URL:https://therestorecenter.com/event/cancer-support-group-5/
LOCATION:RESTORE Center for Integrative Medicine\, 6517 W. Plano Parkway Suite A\, Plano\, TX\, 75013\, United States
CATEGORIES:Cancer Support,Events At A Glance
END:VEVENT
BEGIN:VEVENT
DTSTART;TZID=UTC:20161205T190000
DTEND;TZID=UTC:20161205T200000
DTSTAMP:20260425T220423
CREATED:20160823T004023Z
LAST-MODIFIED:20160823T004023Z
UID:735-1480964400-1480968000@therestorecenter.com
SUMMARY:Cancer Support Group
DESCRIPTION:Cancer patients in any stage of diagnosis\,  treatment/post-treatment living with gynecological\nor breast cancer\, and the caregivers who share their journey.
URL:https://therestorecenter.com/event/cancer-support-group-4/
LOCATION:RESTORE Center for Integrative Medicine\, 6517 W. Plano Parkway Suite A\, Plano\, TX\, 75013\, United States
CATEGORIES:Cancer Support,Events At A Glance
END:VEVENT
BEGIN:VEVENT
DTSTART;TZID=UTC:20161121T190000
DTEND;TZID=UTC:20161121T200000
DTSTAMP:20260425T220423
CREATED:20160823T003913Z
LAST-MODIFIED:20160823T003913Z
UID:733-1479754800-1479758400@therestorecenter.com
SUMMARY:Cancer Support Group
DESCRIPTION:Cancer patients in any stage of diagnosis\,  treatment/post-treatment living with gynecological\nor breast cancer\, and the caregivers who share their journey.
URL:https://therestorecenter.com/event/cancer-support-group-3/
LOCATION:RESTORE Center for Integrative Medicine\, 6517 W. Plano Parkway Suite A\, Plano\, TX\, 75013\, United States
CATEGORIES:Cancer Support,Events At A Glance
END:VEVENT
BEGIN:VEVENT
DTSTART;TZID=UTC:20161107T190000
DTEND;TZID=UTC:20161107T200000
DTSTAMP:20260425T220423
CREATED:20160823T003811Z
LAST-MODIFIED:20160823T003811Z
UID:731-1478545200-1478548800@therestorecenter.com
SUMMARY:Cancer Support Group
DESCRIPTION:Cancer patients in any stage of diagnosis\,  treatment/post-treatment living with gynecological\nor breast cancer\, and the caregivers who share their journey
URL:https://therestorecenter.com/event/cancer-support-group-2/
LOCATION:RESTORE Center for Integrative Medicine\, 6517 W. Plano Parkway Suite A\, Plano\, TX\, 75013\, United States
CATEGORIES:Cancer Support,Events At A Glance
END:VEVENT
BEGIN:VEVENT
DTSTART;TZID=UTC:20161024T190000
DTEND;TZID=UTC:20161024T190000
DTSTAMP:20260425T220423
CREATED:20160823T003658Z
LAST-MODIFIED:20160823T003658Z
UID:729-1477335600-1477335600@therestorecenter.com
SUMMARY:Cancer Support Group
DESCRIPTION:Cancer patients in any stage of diagnosis\,  treatment/post-treatment living with gynecological\nor breast cancer\, and the caregivers who share their journey
URL:https://therestorecenter.com/event/cancer-support-group/
LOCATION:RESTORE Center for Integrative Medicine\, 6517 W. Plano Parkway Suite A\, Plano\, TX\, 75013\, United States
CATEGORIES:Cancer Support,Events At A Glance
END:VEVENT
BEGIN:VEVENT
DTSTART;TZID=UTC:20161020T183000
DTEND;TZID=UTC:20161020T193000
DTSTAMP:20260425T220423
CREATED:20160823T001233Z
LAST-MODIFIED:20161021T034956Z
UID:684-1476988200-1476991800@therestorecenter.com
SUMMARY:Qi Gong
DESCRIPTION:Derived from thousands of years of Chinese experience in the Healing Arts and Sciences\, Qigong is a powerful way to maintain health. \nQi is the vital energy or life force that is inside and outside the body. Gong means to make it work and to produce energy. \nQigong means working with life energy. It is a self-healing exercise that includes body posture\, movement\, self-massage\, breathing techniques and meditation. It helps you learn how to control the flow and distribution of Qi to improve the health and harmony of body-mind and increase longevity.
URL:https://therestorecenter.com/event/qi-gong-2016-10-13/
LOCATION:RESTORE Center for Integrative Medicine\, 6517 W. Plano Parkway Suite A\, Plano\, TX\, 75013\, United States
CATEGORIES:Events At A Glance,Qigong
END:VEVENT
BEGIN:VEVENT
DTSTART;TZID=UTC:20161019T073000
DTEND;TZID=UTC:20161019T083000
DTSTAMP:20260425T220423
CREATED:20160823T001422Z
LAST-MODIFIED:20161109T100301Z
UID:696-1476862200-1476865800@therestorecenter.com
SUMMARY:Wudang Guided Meditation
DESCRIPTION:This is a beginner’s meditation class. We will start with body stretching to loosen our muscles and tendons to allow us to sit more comfortably and prepare the process of “going inward”. Next\, we will practice breathing exercises which link our body and our mind and have proven to be effective in reducing anxiety\, depression\, irritability\, muscle tension and fatigue. We then close with a guided meditation practice.
URL:https://therestorecenter.com/event/wudang-guided-meditation/
LOCATION:RESTORE Center for Integrative Medicine\, 6517 W. Plano Parkway Suite A\, Plano\, TX\, 75013\, United States
CATEGORIES:Events At A Glance,Wudang Meditation
END:VEVENT
BEGIN:VEVENT
DTSTART;TZID=UTC:20161018T073000
DTEND;TZID=UTC:20161018T083000
DTSTAMP:20260425T220423
CREATED:20160822T234120Z
LAST-MODIFIED:20161109T100213Z
UID:631-1476775800-1476779400@therestorecenter.com
SUMMARY:Tai Chi
DESCRIPTION:In this Tai Chi Qigong class\, you will be introduced step-by-step to the “Eighteen Movements\,” a form perfected by Master Tseng that uses Tai Chi’s soft and graceful movements in combination with exercises for the mind. By encouraging better balance\, coordination\, and concentration\, mind and body flow together to improve Qi (life force) and your health.
URL:https://therestorecenter.com/event/tai-chi-2016-10-12/
LOCATION:RESTORE Center for Integrative Medicine\, 6517 W. Plano Parkway\, Plano\, TX\, 75093\, United States
CATEGORIES:Events At A Glance,Tai Chi Qigong
END:VEVENT
END:VCALENDAR